BEGIN:VCALENDAR
VERSION:2.0
PRODID:eintopf.info
METHOD:REQUEST
BEGIN:VEVENT
UID:d5be6101-e189-4ede-94a7-f9a02cf1ccc0
SUMMARY:SoLaWiS Koordinationskreistreffen
DTSTART:20260512T170000Z
URL:https://eintopf.info/event/d5be6101-e189-4ede-94a7-f9a02cf1ccc0
CATEGORIES:Offenes Treffen\,Ernährung
DESCRIPTION:Monatliches Treffen der SoLaWi Stuttgart Mitglieder und
  Interessierte
LOCATION:online
ORGANIZER:mailto:Solidarische Landwirtschaft Stuttgart
END:VEVENT
END:VCALENDAR
