BEGIN:VCALENDAR
VERSION:2.0
PRODID:eintopf.info
METHOD:REQUEST
BEGIN:VEVENT
UID:d446e996-2027-4a7c-87e6-b4dc14fdf727
SUMMARY:Was ist und wie geht SoLaWiS
DTSTART:20251027T160000Z
URL:https://eintopf.info/event/d446e996-2027-4a7c-87e6-b4dc14fdf727
CATEGORIES:DIY\,Ernährung
DESCRIPTION:Bei diesem Infoabend erfährst du alles\, was zum Mitmachen bei
  der Solidarischen Landwirtschaft Stuttgart wichtig ist. Die nächste
  Saison beginnt im Januar 2026. Aber bereits Ende November 2025 machen wir
  eine Bietrunde\, an der alle teilnehmen\, die (wieder) dabei sein wollen.
LOCATION:Reyerhof\, Unteraicher Str. 8\, 70567 Stuttgart
GEO:48.7244278;9.144928017131475
ORGANIZER:mailto:Solidarische Landwirtschaft Stuttgart
END:VEVENT
END:VCALENDAR
