BEGIN:VCALENDAR
VERSION:2.0
PRODID:eintopf.info
METHOD:REQUEST
BEGIN:VEVENT
UID:d3581c54-02f3-4142-9865-ddb815d9b8d1
SUMMARY:Sommer–Wildpflanzenführung
DTSTART:20250816T120000Z
URL:https://eintopf.info/event/d3581c54-02f3-4142-9865-ddb815d9b8d1
DTEND:20250816T160000Z
CATEGORIES:Workshop\,Gesundheit
DESCRIPTION:Bitte an zum Wetter passende Kleidung\, für Dich/Euch
  passendes Schuhwerk und ggf. Sonnenschutz denken sowie etwas zu trinken
  für unseren Wander-Spaziergang.\n\nwir machen eine ca. 2 stündigen
  gemütlichen Wanderspaziergang im schönen Aichwald\nund Rebecca erklärt
  dabei die Sommerwildpflanzen\, die wir auf dem Weg finden.\nFür eine
  ganz detailierte Betrachtung gibt es sogar Lupen\, mit denen man Dinge
  warnimmt\,\ndie mit blosem Auge nicht zu sehen sind.\n\nBeim gemütlichen
  Teil bereiten wir gemeinsam ein leckeres Kräuter-Baguette und Tee aus
  unseren selbst gesammelten Wildkräutern zu.\n\nZwischendurch und am Ende
  gibt es zusätzlich die Möglichkeit\, in unserem Second-Shop nach
  kleinen Schätzen zu stöbern.
LOCATION:ZuZule Begegnungsort\, Aichschießer Str. 2\, 73773 Aichwald
GEO:48.7589835;9.378939
ORGANIZER:mailto:ZuZule - Zusammen Zukunft leben
END:VEVENT
END:VCALENDAR
