BEGIN:VCALENDAR
VERSION:2.0
PRODID:eintopf.info
METHOD:REQUEST
BEGIN:VEVENT
UID:d22a6850-600c-46a8-96f7-60b6e534b3e0
SUMMARY:Gasparitsch-Kneipe
DTSTART:20250314T190000Z
URL:https://eintopf.info/event/d22a6850-600c-46a8-96f7-60b6e534b3e0
DTEND:20250314T225000Z
CATEGORIES:Gesellig\,Sonstiges
DESCRIPTION:jeden Freitag ab 20 Uhr mit leckerem Essen\, Getränke – in
  netter Atmosphäre
LOCATION:Stadtteilzentrum Gasparitsch\, Rotenbergstr. 125\, 70190 Stuttgart
GEO:48.788058;9.2116285
ORGANIZER:mailto:Stadtteilzentrum Gasparitsch
END:VEVENT
END:VCALENDAR
