BEGIN:VCALENDAR
VERSION:2.0
PRODID:eintopf.info
METHOD:REQUEST
BEGIN:VEVENT
UID:d17c3762-5b15-4766-a97a-5a8fc7ddca0a
SUMMARY:Ein Abend für Betty Rosenfeld. Text\, Musik und Bildende Kunst
DTSTART:20251120T183000Z
URL:https://eintopf.info/event/d17c3762-5b15-4766-a97a-5a8fc7ddca0a
CATEGORIES:Vortrag\,Antifaschismus
DESCRIPTION:Die Initiative "Ein Platz für Betty Rosenfeld" startet mit der
  Benefizveranstaltung im Theaterhaus Stuttgart die Spendenkampagne für
  eine Skulptur für Betty Rosenfeld im Stuttgarter Westen.\n \nIm
  Mittelpunkt des Abends mit Text\, Musik und Bildender Kunst steht Betty
  Rosenfeld\, die bis 1935 im Stuttgarter Westen lebte. Mit
  unterschiedlichen künstlerischen Mitteln wird versucht\, die
  Lebensgeschichte der Frau\, der Aktivistin gegen den Faschismus und der
  Mitbürgerin zu rekonstruieren und sie ins Bewusstsein der
  Stadtgesellschaft zu rücken. Ausgangspunkt ist die Biographie "Betty
  Rosenfeld - Zwischen Davidstern und roter Fahne" des Historikers Michael
  Uhl.\nEr wird im Dialog mit ihrer Nichte Teri Gerritz\, die für diesen
  Abend aus Berkley/USA anreist\, die familiären Hintergründe
  beleuchten\; Elisabeth Kabatek moderiert das Gespräch. Susanne
  Heydenreich liest aus Briefen von Betty Rosenfeld und der Stuttgarter
  Bildhauer Joachim Sauter gewährt Einblick in sein Atelier und den
  Entstehungsprozess der Skulptur für den Bismarck-Platz im Westen. Das
  Duo Eyla begleitet den Abend musikalisch. Klaus Kunkel von der Initiative
  "Ein Platz für Betty Rosenfeld" führt durch das Programm.
LOCATION:Theaterhaus Stuttgart\, Siemensstr. 11\, 70469 Stuttgart
ORGANIZER:mailto:Initiative "Eine Platz für Betty-Rosenfeld"
END:VEVENT
END:VCALENDAR
