BEGIN:VCALENDAR
VERSION:2.0
PRODID:eintopf.info
METHOD:REQUEST
BEGIN:VEVENT
UID:d1653f9c-0b79-49e2-bf28-9e7193813476
SUMMARY:Gasparitsch-Kneipe
DTSTART:20260220T190000Z
URL:https://eintopf.info/event/d1653f9c-0b79-49e2-bf28-9e7193813476
DTEND:20260220T225000Z
CATEGORIES:Gesellig\,Sonstiges
DESCRIPTION:jeden Freitag ab 20 Uhr mit leckerem Essen\, Getränke – in
  netter Atmosphäre
LOCATION:Stadtteilzentrum Gasparitsch\, Rotenbergstr. 125\, 70190 Stuttgart
GEO:48.788058;9.2116285
ORGANIZER:mailto:Stadtteilzentrum Gasparitsch
END:VEVENT
END:VCALENDAR
