BEGIN:VCALENDAR
VERSION:2.0
PRODID:eintopf.info
METHOD:REQUEST
BEGIN:VEVENT
UID:d04e13fc-fa1b-4963-b0cd-f7e62cfe7ff6
SUMMARY:Kundgebung zum Safe Abortion Day
DTSTART:20240928T130000Z
URL:https://eintopf.info/event/d04e13fc-fa1b-4963-b0cd-f7e62cfe7ff6
CATEGORIES:Demonstration\,Feminismus
DESCRIPTION:2024 ist ein wichtiges Jahr für die Legalisierung des
  Schwangerschaftsabbruchs in Deutschland. Eine Kommission hat die
  Streichung des § 218 aus dem Strafgesetz geprüft. Gleichzeitig
  gefährdet das Erstarken von rechten Parteien weltweit die reproduktiven
  Rechte. Wir fordern die Legalisierung des Schwangerschaftsabbruchs in
  Deutschland noch in dieser Legislatur! Ungewollt Schwangere brauchen eine
  gute medizinische Versorgung und soziale Unterstützung statt
  Strafandrohung. Wir fordern eine Neuregelung des
  Schwangerschaftsabbruches\, und zwar legal\, einfach und fair!\n\nMit
  Redebeiträgen\, Infotischen und verschiedenen kreativen Mitmachaktionen
  wollen wir bei der Kundegbung auf dei rechtliche Situation zu
  Schwangerschaftsabbrüchen in Deutschland aufmerksam machen!\n\nWeitere
  Infos rund um den diesjährigen Safe Abortion Day findet ihr hier:
  www.eastside-stuttgart.org/2024/08/legal-einfach-fair-fuer-eine-neuregelu
 ng-des-schwangerschaftsabbruchs-in-deutschland/
LOCATION:Marienplatz\, Stuttgart\, Marienplatz\, Stuttgart
GEO:48.764294050000004;9.168256805039317
ORGANIZER:mailto:Pro Choice Bündnis Stuttgart
END:VEVENT
END:VCALENDAR
