BEGIN:VCALENDAR
VERSION:2.0
PRODID:eintopf.info
METHOD:REQUEST
BEGIN:VEVENT
UID:cc1df864-5eaa-40a9-b494-7fed1474a843
SUMMARY:Veganer Mitbring-Brunch Bad Cannstatt
DTSTART:20260201T093000Z
URL:https://eintopf.info/event/cc1df864-5eaa-40a9-b494-7fed1474a843
CATEGORIES:Offenes Treffen\,Ernährung
DESCRIPTION:Hallo zusammen\,\nhiermit möchten wir euch am  01.02.26 zum
  nächsten Veganen Mitbring-Brunch in Bad Cannstatt einladen\, nur 1
  Gehminute vom Bhf Bad Cannstatt. Eingeladen sind natürlich auch alle
  Nicht-Veganer\, die sich einmal durch die vegane Cuisine schlemmen
  möchten.\n\nZum Ablauf:\nEinlass ab 10:30 Uhr\, um das Buffet
  aufzubauen. Bitte bringt eine Speise für das Buffet (von Vorspeise bis
  Nachtisch ist alles willkommen) und Getränke nach eigener Vorliebe
  (Saft\, Smoothie\, Kakao\, Tee\, Kaffee in Thermoskanne\, French Press)
  mit. \nWir nutzen die Räume von commons kitchen in dem ehemaligen
  Schwabenbräu-Gebäude\, gegenüber vom Bahnhof Cannstatt. Herdplatten\,
  ausreichend Geschirr und Besteck sind vorhanden. Der Brunch dient auch
  dem Netzwerken und wer eine vegane Idee\, Termin oder Event kurz
  vorzustellen will\, wird dazu Gelegenheit haben.\n\nWie zu
  finden?\nAdresse: Bahnhofstraße 14-18.\nNächste Haltestellen sind der
  Bhf Bad Cannstatt und die U-Bahnstation Wilhelmsplatz.\nIn der
  Fußgängerzone befindet sich der Eingang mit dunkelrot gestrichenem
  Metalltor. Dort eine Treppe hoch.\n\nFür alle Brunch-Neulinge noch ein
  paar Infos:\n+ Ei\, Milch\, Butter\, Käse\, Joghurt\, Sahne\, Honig oder
  manche Fette sind nicht vegan.\n+ Eine Anmeldung ist nicht
  erforderlich.\n+ Die Teilnahme ist kostenlos\, aber nur mit einem
  kulinarischen Beitrag für das Buffet möglich.\n+ Bitte bringt keine
  alkoholischen Getränke mit.\n+ Bitte beschriftet eure Speisen mit: 1.
  Name der Speise\, 2.Eurem Namen und 3. für Allergiker relevante Zutaten.
  Hierfür genügt ein angeklebter Zettel oder ein Aufstellkärtchen.\n+ Um
  am Ende keine Lebensmittel wegwerfen zu müssen\, bringt bitte eine leere
  Tupperdose mit.\n+ Um Kosten für Strom\, Wasser\, Heizung und
  Verbrauchsmittel zu decken\, werden wir eine Spendendose aufstellen.\n+
  Es wäre toll\, wenn sich am Ende der Veranstaltung einige Freiwillige
  finden\, die uns beim Aufräumen und Durchfegen noch
  unterstützen.\n\nBei Fragen\, wendet euch gerne an uns!\nBeste Grüße\,
  Gero\n
LOCATION:commons kitchen - Mitmachküche\, Bahnhofstraße 14-18\, 70372 Bad
  Cannstatt
GEO:48.8024492;9.2171569
ORGANIZER:mailto:Gero/ Christian
END:VEVENT
END:VCALENDAR
