BEGIN:VCALENDAR
VERSION:2.0
PRODID:eintopf.info
METHOD:REQUEST
BEGIN:VEVENT
UID:cc0308d9-4e95-4c30-a8fd-6d600d7cd5a1
SUMMARY:Stuttgart Bike Night goes Sing and Stitch
DTSTART:20260416T170000Z
URL:https://eintopf.info/event/cc0308d9-4e95-4c30-a8fd-6d600d7cd5a1
DTEND:20260416T190000Z
CATEGORIES:Gesellig\,Mobilität
DESCRIPTION:Am 16.04.26 geht es für uns wieder zu Sing and Stitch.\n\nDas
  heißt wir fahren an dem Tag eine kleinere Runde durch Stuttgart ca. 1
  Stunde. Natürlich wie gewohnt in gemütlicher Party-Pace.\nWas ist das
  Sing and Stitch?\n\nBeim Sing and Stitch handelt es sich um die perfekte
  Mischung aus Karaoke und Handarbeit. Wir setzen uns gemütlich zusammen\,
  Häkeln und Stricken\, tauschen uns aus\, trinken unser Lieblingsgetränk
  und singen fröhlich Karaoke. Das Sing and Stitch ist eine Veranstaltung
  von https://instagram.com/woolcoffeetea und der Reboots Bar.\nKlingt das
  für dich nach Spaß?\n\nDann pack am 16.04 dein Strick- oder Häkelzeug
  und dein Fahrrad\, dreh mit uns eine gemütliche Runde durch Stuttgart
  und danach geht’s ab ins Reboots.\n\n📍Wir treffen uns auf 19 Uhr am
  Flora & Fauna\n\n❓ Was ist die Stuttgarter Bike Night?\n\nWir wollen
  einen Groupride schaffen für Menschen\, die sich in den sportlich
  fokussierten Radausfahrten vielleicht nicht ganz wohlfühlen 🤝💜
  Eine 🚲 Fahrradausfahrt durch Stuttgart\, bei der der Spaß am Radeln
  ganz oben steht 😄🙌.\n\nWir verstehen uns als inklusive Gruppe
  🌍✨\, die einen sicheren Ort ohne Diskriminierung schaffen möchte\,
  an dem sich alle wohl und willkommen fühlen können!
  🏳️‍🌈💫.\n\nAlso komm mit 👉🚲💡 und erkunde mit uns
  bunt leuchtend 🌈✨ die Stadtteile Stuttgarts
  🏙️💛\n\nhttps://stuttgartbikenight.de
LOCATION:Flora & Fauna\, Am Schwanenplatz 10
GEO:48.7968675;9.2051537
ORGANIZER:mailto:Stuttgart Bike Night
END:VEVENT
END:VCALENDAR
