BEGIN:VCALENDAR
VERSION:2.0
PRODID:eintopf.info
METHOD:REQUEST
BEGIN:VEVENT
UID:cb88f83b-5c15-4106-b81b-af1ca3a88d4c
SUMMARY:Gasparitsch-Kneipe
DTSTART:20250606T190000Z
URL:https://eintopf.info/event/cb88f83b-5c15-4106-b81b-af1ca3a88d4c
DTEND:20250606T225000Z
CATEGORIES:Gesellig\,Sonstiges
DESCRIPTION:jeden Freitag ab 20 Uhr mit leckerem Essen\, Getränke – in
  netter Atmosphäre
LOCATION:Stadtteilzentrum Gasparitsch\, Rotenbergstr. 125\, 70190 Stuttgart
GEO:48.788058;9.2116285
ORGANIZER:mailto:Stadtteilzentrum Gasparitsch
END:VEVENT
END:VCALENDAR
