BEGIN:VCALENDAR
VERSION:2.0
PRODID:eintopf.info
METHOD:REQUEST
BEGIN:VEVENT
UID:cad43d90-86eb-4df7-b13a-45a3e11d1a12
SUMMARY:Seebrücke Plenum 
DTSTART:20220623T170000Z
URL:https://eintopf.info/event/cad43d90-86eb-4df7-b13a-45a3e11d1a12
DESCRIPTION:
LOCATION:Stadtteilzentrum Gasparitsch\, Rotenbergstr. 125\, 70190 Stuttgart
GEO:48.788058;9.2116285
ORGANIZER:mailto:Seebrücke Stuttgart 
END:VEVENT
END:VCALENDAR
