BEGIN:VCALENDAR
VERSION:2.0
PRODID:eintopf.info
METHOD:REQUEST
BEGIN:VEVENT
UID:c8fee116-6e5f-468a-9201-ea73c0e3b087
SUMMARY:Blue & True
DTSTART:20210723T190000Z
URL:https://eintopf.info/event/c8fee116-6e5f-468a-9201-ea73c0e3b087
DTEND:20210723T194500Z
DESCRIPTION:\nSeit Anfang 2013 gibt es Blue & True - klassisch als Trio mit
  Gitarre\, Bass und Schlagzeug. „Wir haben einfach Spaß an der Musik
  und wollen die Freude weitergeben - beim Spielen für andere!“
LOCATION:Kesselbambule Klimacamp 2021\, Wird noch bekannt gegeben
ORGANIZER:mailto:Kesselbambule,Blue & True
END:VEVENT
END:VCALENDAR
