BEGIN:VCALENDAR
VERSION:2.0
PRODID:eintopf.info
METHOD:REQUEST
BEGIN:VEVENT
UID:c86ec20b-42a1-43d9-9d68-f1c47ba7a3b4
SUMMARY:Flohmarkt
DTSTART:20230924T100000Z
URL:https://eintopf.info/event/c86ec20b-42a1-43d9-9d68-f1c47ba7a3b4
DTEND:20230924T160000Z
DESCRIPTION:Ob nützlich oder schön\, alt oder wie neu: in entspannter
  Atmosphäre könnt ihr beim Flohmarkt stöbern und Schätze finden. Kommt
  vorbei\, wir freuen uns auf euch!\n\nWer Interesse an einem Stand hat\,
  kann sich gerne per Mail an info@chloroplast melden.
LOCATION:Chloroplast Stuttgart e.V. (ehemaliges Walz Areal)\,
  Solitudestr.99 70499 Stuttgart
GEO:48.80547645;9.102712875319838
ORGANIZER:mailto:Chloroplast Stuttgart e.V.
END:VEVENT
END:VCALENDAR
