BEGIN:VCALENDAR
VERSION:2.0
PRODID:eintopf.info
METHOD:REQUEST
BEGIN:VEVENT
UID:c7e8da8b-e63b-45b0-9fe5-d718d2235cac
SUMMARY:Dickes Blut –  eine Familienfeier mit dem Citizen.KANE.Kollektiv
DTSTART:20251128T180000Z
URL:https://eintopf.info/event/c7e8da8b-e63b-45b0-9fe5-d718d2235cac
CATEGORIES:Theater\,Sonstiges
DESCRIPTION:DICKES BLUT – eine Familienfeier mit dem
  Citizen.KANE.Kollektiv lädt die Zuschauer*innen ein Platz zu nehmen\,
  Gäste zu sein\, Teil der Familie zu werden – oder einfach nur staunend
  zu beobachten\, wie sich die Grenzen zwischen Tisch und Bühne\, zwischen
  Spiel und Leben auflösen.\n\nFür diesen Abend haben die sechs
  Kollektivmitglieder Carina\, Christian\, Ida\, Malin\, Max und Nikita
  etwas gewagt\, was man selten tut: Sie haben ihre Eltern getauscht. Sie
  haben mit den Müttern und Vätern der anderen gesprochen – über
  Herkunft und Entfremdung\, über Schweigen\, Ideologien\, Zärtlichkeit
  und das Älterwerden.\n\nAus den Interviews und den eigenen Erinnerungen
  entsteht eine Performance zwischen Essen\, Emotion und Eskalation – ein
  generationenübergreifendes Ritual\, das ein familiäres Zusammenkommen
  in einen öffentlichen Raum überführt. Denn Familie ist nie nur privat.
  Familie ist die Keimzelle der Gesellschaft\, der erste Proberaum des
  Zusammenlebens und eine politische Bühne\, der niemand
  entkommt.\n\nSolidarisches Preismodell. Tickets unter:
  https://citizenkanekollektiv.ticket.io/
LOCATION:Naturfreundehaus Steinbergle\, Stresemannstr. 6\, 70191 Stuttgart
GEO:48.80251805;9.17404080102299
ORGANIZER:mailto:Citizen.KANE.Kollektiv
END:VEVENT
END:VCALENDAR
