BEGIN:VCALENDAR
VERSION:2.0
PRODID:eintopf.info
METHOD:REQUEST
BEGIN:VEVENT
UID:c7925c64-d84d-498d-85c4-25e411327506
SUMMARY:Stuttgart Bike Night 04/11
DTSTART:20251127T180000Z
URL:https://eintopf.info/event/c7925c64-d84d-498d-85c4-25e411327506
CATEGORIES:Gesellig\,Mobilität
DESCRIPTION:🚴‍♀️🚴‍♂️✨Wöchentlich! 🤩\n\n📍Wir
  treffen uns auf 19 Uhr am Flora & Fauna\n\n❓ Was ist die Stuttgarter
  Bike Night?\n\nWir wollen einen Groupride schaffen für Menschen\, die
  sich in den sportlich fokussierten Radausfahrten vielleicht nicht ganz
  wohlfühlen 🤝💜 Eine 🚲 Fahrradausfahrt durch Stuttgart\, bei der
  der Spaß am Radeln ganz oben steht 😄🙌.\n\nWir verstehen uns als
  inklusive Gruppe 🌍✨\, die einen sicheren Ort ohne Diskriminierung
  schaffen möchte\, an dem sich alle wohl und willkommen fühlen können!
  🏳️‍🌈💫.\n\nAlso komm mit 👉🚲💡 und erkunde mit uns
  bunt leuchtend 🌈✨ die Stadtteile Stuttgarts 🏙️💛
ORGANIZER:mailto:Stuttgart Bike Night
END:VEVENT
END:VCALENDAR
