BEGIN:VCALENDAR
VERSION:2.0
PRODID:eintopf.info
METHOD:REQUEST
BEGIN:VEVENT
UID:c6a2901d-fefb-419c-a94b-0d4c33f9652e
SUMMARY:Infospaziergang auf der Weide
DTSTART:20241026T070000Z
URL:https://eintopf.info/event/c6a2901d-fefb-419c-a94b-0d4c33f9652e
CATEGORIES:Sonstiges\,Ernährung
DESCRIPTION:Zu der Landwirtschaft der SoLaWiS-Kooperationsbetriebe gehören
  nicht nur Salate\, Gemüse\, Kartoffeln und Getreide sondern auch
  Rinderhaltung. Am heutigen Samstagvormittag begleiten wir Anna Laura
  Hübner und gehen mit ihr auf die Weide. Dabei erleben wir eine
  Weidekontrolle. Wir erfahren\, wie die Reyerhofrinder weiden und worauf
  dabei geachtet wird. Bitte kommt in wetterangepasster Kleidung.
LOCATION:Reyerhof\, Unteraicher Str. 8\, 70567 Stuttgart
GEO:48.7244278;9.144928017131475
ORGANIZER:mailto:Solidarische Landwirtschaft Stuttgart
END:VEVENT
END:VCALENDAR
