BEGIN:VCALENDAR
VERSION:2.0
PRODID:eintopf.info
METHOD:REQUEST
BEGIN:VEVENT
UID:c5e7741e-9a6b-4c8d-a67d-80da0d2c43ba
SUMMARY:Von Willi Bleicher lernen
DTSTART:20260115T183000Z
URL:https://eintopf.info/event/c5e7741e-9a6b-4c8d-a67d-80da0d2c43ba
CATEGORIES:Vortrag\,Antifaschismus
DESCRIPTION:Vortrag\, Film und Gespräch\nEintritt frei - Spenden
  erwünscht\n\nHermann G. Abmayr hat sein neues Buch „Willi Bleicher –
  Texte eines Widerständigen“ dabei und den Dokumentarfilm „Wer nicht
  kämpft\, hat schon verloren – Willi Bleicher: Widerstandskämpfer und
  Arbeiterführer“. Er wird über Bleichers Lehren aus dessen Erlebnissen
  in der Zeit der Weimarer Republik berichten und dabei den Bogen spannen
  zu den aktuellen Diskussionen.\n\nDie Nazis beschäftigten Bleicher fast
  sein ganzes Leben lang – als junger Mann\, der für eine gerechte Welt
  kämpfte\, im KZ und später als Metall-Gewerkschafter und Streikführer.
  Sein damaliger Gegenspieler war Arbeitgeberpräsident Hanns Martin
  Schleyer\, ein früherer SS-Mann. Bleicher wollte immer verstehen\,
  Lehren ziehen. Denn es könne nie ausgeschlossen werden\, dass
  autoritäre oder faschistische Tendenzen wieder Zulauf erhalten –  in
  welcher Form auch immer.
LOCATION:AWO-Begegnungsstätte Botnang\, Griegstraße 8\, 70195 Stuttgart
ORGANIZER:mailto:Botnang Hand in Hand
END:VEVENT
END:VCALENDAR
