BEGIN:VCALENDAR
VERSION:2.0
PRODID:eintopf.info
METHOD:REQUEST
BEGIN:VEVENT
UID:c465987f-01b7-43b2-9d3c-12d0f11172cf
SUMMARY:Bücher- und Plattenflohmarkt: Beats & Books mit DJ Ankh
DTSTART:20220416T100000Z
URL:https://eintopf.info/event/c465987f-01b7-43b2-9d3c-12d0f11172cf
DESCRIPTION:DJ Ankh öffnet seine Plattenkoffer und legt Leckerbissen aus
  einem halben Jahrhundert Popkultur  für euch auf. Daneben könnt ihr in
  seinem reichhaltigen Bücherfundus schmökern und stöbern und
  möglicherweise die ein oder andere Rarität ergattern. Special Drinks
  und leckeres Bananenbrot gibt's natürlich auch!
LOCATION:Raupe Immersatt\, Johannesstraße 97\, Stuttgart
GEO:48.782018;9.1579717
ORGANIZER:mailto:Raupe Immersatt
END:VEVENT
END:VCALENDAR
