BEGIN:VCALENDAR
VERSION:2.0
PRODID:eintopf.info
METHOD:REQUEST
BEGIN:VEVENT
UID:c2f81805-cdfb-4391-86b0-ca54f1c1e1f5
SUMMARY:Kino-Sonntag: Capernaum
DTSTART:20220522T173000Z
URL:https://eintopf.info/event/c2f81805-cdfb-4391-86b0-ca54f1c1e1f5
DESCRIPTION:Die Raupen-Kino-Reihe setzt sich fort und führt euch diesmal
  zum 12-jährigen Zain\, der als Straßenjunge in Beirut seine eigenen
  Eltern anklagt mit den Worten: „Ihr habt mich auf die Welt
  gebracht.“. 2018 in Cannes mit dem Preis der Jury prämiert\, eröffnet
  er eine Welt\, in der ein Kind beschließt\, sich gegen das Leben in
  Armut und Elend\, das ihm auferlegt wurde\, zu wehren.\n\nWie immer
  gibt’s frisches Popcorn und gerettete foodsharing-Snacks :) Start
  20.15\, Einlass ab 19.30 Uhr.
LOCATION:Raupe Immersatt\, Johannesstraße 97\, Stuttgart
GEO:48.782018;9.1579717
ORGANIZER:mailto:Raupe Immersatt
END:VEVENT
END:VCALENDAR
