BEGIN:VCALENDAR
VERSION:2.0
PRODID:eintopf.info
METHOD:REQUEST
BEGIN:VEVENT
UID:c27347cc-331b-4355-a048-e35c1b07f8d4
SUMMARY:"Save Our Souls" / Film\, Gespräch und Aktion
  "Nein-zur-Bezahlkarte"
DTSTART:20250920T133000Z
URL:https://eintopf.info/event/c27347cc-331b-4355-a048-e35c1b07f8d4
CATEGORIES:Sonstiges\,Antirassimus
DESCRIPTION:Die Initiative Hotel Silber und Die AnStifter präsentieren den
  Dokumentarfilm "Save Our Souls" von Jean-Baptiste Bonnet: Im Mittelmeer
  kreuzen sich die Wege von Menschen\, die auf eine neue Zukunft hoffen\,
  und den Seenotretter:innen der Ocean Viking. Sechs Wochen lang begleitet
  Regisseur und Fotograf Jean-Baptiste Bonnet ihre Reise. Er zeigt die
  geduldige Wachsamkeit der Crew\, die Anspannung bei jeder Rettung und die
  Momente der Hoffnung\, wenn das Schiff endlich einen europäischen Hafen
  erreicht. Doch es sind vor allem die Stimmen der Geretteten\, die
  berühren - ihre Geschichten von Flucht\, Verlust und Sehnsucht nach
  Sicherheit.\n\nIn der Diskussion nach dem Film wollen wir den Bogen
  schlagen zur Situation der Geflüchteten hierzulande. Ein Infotisch und
  die Möglichkeit\, Asylsuchenden mit der Aktion "Nein zur Bezahlkarte"
  ein Stück Freiheit zurückzugeben\, bieten Ihnen als Besucher:in
  konkrete Ideen\, etwas gegen deren Ausgrenzung und Diskriminierung zu
  tun.
LOCATION:Erinnerungsort Hotel silber\, Dorotheenstraße 10\, 70173
  Stuttgart
GEO:48.775650850000005;9.181561912095749
ORGANIZER:mailto:Die AnStifter, Initiative Lern- und Gedenkort Hotel Silber
END:VEVENT
END:VCALENDAR
