BEGIN:VCALENDAR
VERSION:2.0
PRODID:eintopf.info
METHOD:REQUEST
BEGIN:VEVENT
UID:c22f0b9b-e192-49cc-923f-210389ad9fca
SUMMARY:Playtime - Auszeit
DTSTART:20250502T140000Z
URL:https://eintopf.info/event/c22f0b9b-e192-49cc-923f-210389ad9fca
DTEND:20250504T160000Z
CATEGORIES:Sonstiges\,Sonstiges
DESCRIPTION:PLAYTIME\nEine Auszeit mit Sauna\, Whirlpool\, Natur\, leckerem
  Essen\, Playroom und einem bewussten Miteinander. \nDie Veranstaltung
  findet im Rahmen der Werte der SexPositiven Community Stuttgart statt:
  Konsens\, Diskriminierungsfreiheit\, Akzeptanz aller Geschlechter\,
  Identitäten und sexueller Vielfalt...sexpositiv\, polyfreundlich\,
  queerinkludierend und inklusiv. \n\nEin Wochenende in entspannter
  Atmosphäre\, mit Raum für echtes Selbstsein.\nDich erwarten:\n🌿
  Workshops zu Selbstwahrnehmung\, Körper\, Nähe & Grenzen\n🛁 Wellness
  & Rückzug\n🎲 Spielen\, Austausch & Begegnung\n💫 Freiraum – alles
  kann\, nichts muss\n\n👉 Alle Infos & Anmeldung:
  sexpositiv-stuttgart.de/community_event/selbstsein-playtime	\nDie
  Teilnahmegebühr ist zur Kostendeckung\, Solidarpreise sind möglich. \n
LOCATION:Südschwarzwald\, Freizeithaus am Waldrand
ORGANIZER:mailto:SexPositive Community Stuttgart
END:VEVENT
END:VCALENDAR
