BEGIN:VCALENDAR
VERSION:2.0
PRODID:eintopf.info
METHOD:REQUEST
BEGIN:VEVENT
UID:c096e9bf-5760-4b87-b5a3-1b871be61fa2
SUMMARY:Konzert: Tanjusch & Bande
DTSTART:20220526T180000Z
URL:https://eintopf.info/event/c096e9bf-5760-4b87-b5a3-1b871be61fa2
DESCRIPTION:Lieder von der Straße\, Fähren und Fensterbänken\n… aus
  der Feder einer Balkan- und Gefühlsbummlerin. Lyrisch und feinsinnig
  besingt sie Momente des Menschseins. Mal in Form von Geschichten\, in
  Gedichten oder in rätselhaften Worten\, ihrer Fantasiesprache. Diese
  erlernte sie als Kind von ihrem Vater beim Zähneputzen – und wer
  will\, kann sie verstehen. Lieder aus der Herzschublade getragen von
  souveränen Gitarrenklängen und umspielt von tanzendem
  Saxophon.\n\nEinlass & Abendkasse: 19 Uhr\nStart: 20 Uhr\n\nEintritt:
  Zahl was es dir wert ist.\nMit den Einnahmen finanzieren wir die Gagen
  der Künstler*innen\, Technik\, GEMA und Materialkosten. Unterstützt uns
  mit eurer Konzert-Spende und lasst uns alle Kosten solidarisch als
  Gemeinschaft teilen!
LOCATION:Raupe Immersatt\, Johannesstraße 97\, Stuttgart
GEO:48.782018;9.1579717
END:VEVENT
END:VCALENDAR
