BEGIN:VCALENDAR
VERSION:2.0
PRODID:eintopf.info
METHOD:REQUEST
BEGIN:VEVENT
UID:c01d5159-7ad0-4957-9854-747ccba4fbe7
SUMMARY:Gasparitsch-Kneipe
DTSTART:20260410T190000Z
URL:https://eintopf.info/event/c01d5159-7ad0-4957-9854-747ccba4fbe7
DTEND:20260410T225000Z
CATEGORIES:Gesellig\,Sonstiges
DESCRIPTION:jeden Freitag ab 20 Uhr mit leckerem Essen\, Getränke – in
  netter Atmosphäre
LOCATION:Stadtteilzentrum Gasparitsch\, Rotenbergstr. 125\, 70190 Stuttgart
GEO:48.788058;9.2116285
ORGANIZER:mailto:Stadtteilzentrum Gasparitsch
END:VEVENT
END:VCALENDAR
