BEGIN:VCALENDAR
VERSION:2.0
PRODID:eintopf.info
METHOD:REQUEST
BEGIN:VEVENT
UID:c016b5f6-0bd1-4ecc-af98-72530ddf1833
SUMMARY:Balfolk-Tanzabend mit Livemusik aus Frankreich
DTSTART:20260131T160000Z
URL:https://eintopf.info/event/c016b5f6-0bd1-4ecc-af98-72530ddf1833
CATEGORIES:Konzert & Party\,Sonstiges
DESCRIPTION:Am Samstag\, 31.01.2025\, laden wir euch zu unserem nächsten
  Balfolk-Abend mit Livemusik ins Alte Feuerwehrhaus Stuttgart-Heslach
  ein.\n\nDer Abend beginnt um 17:00 Uhr mit einem kostenlosen
  Einsteiger-Tanzkurs. Dort lernt ihr die wichtigsten Basics\, um danach
  direkt mittanzen zu können – Vorkenntnisse oder feste
  Tanzpartner*innen braucht ihr nicht.\n\nAb 19:00 Uhr startet der Bal mit
  Livemusik:\nDen Auftakt macht Tom Espinasse\, der mit Akkordeon\, Gesang
  und viel Energie ein abwechslungsreiches\, tanzbares Repertoire
  präsentiert.\nAb ca. 21:00 Uhr übernimmt dann Diatocello – das Duo
  aus diatonischem Akkordeon und Cello sorgt mit seiner mitreißenden Musik
  für einen intensiven und lebendigen Balfolk-Abend.\n\nDer Eintritt ist
  kostenpflichtig\, um die Musiker*innen und die Organisation zu
  finanzieren. Uns ist wichtig\, dass alle mittanzen können – deshalb
  gibt es ein solidarisches Preismodell mit reduziertem Eintritt\, bei dem
  jeder selbst entscheidet.
LOCATION:Altes Feuerwehrhaus Stuttgart Süd\, Möhringer Str. 56\, 70199
  Stuttgart
ORGANIZER:mailto:Balfolk Stuttgart e.V.
END:VEVENT
END:VCALENDAR
