BEGIN:VCALENDAR
VERSION:2.0
PRODID:eintopf.info
METHOD:REQUEST
BEGIN:VEVENT
UID:c0022b6f-761b-492d-9798-9a95f3415252
SUMMARY:Hotel Sonnendeck mit DJ Marcelle
DTSTART:20241025T210000Z
URL:https://eintopf.info/event/c0022b6f-761b-492d-9798-9a95f3415252
DTEND:20241026T040000Z
CATEGORIES:Konzert & Party\,Sonstiges
DESCRIPTION:For the first Hotel Sonnendeck Party\, the Stuttgart-based Team
  Tiefbass has invited DJ Marcelle from Amsterdam. Expect the unexpected -
  with many years of experience in presenting musical surprises\, she
  merges styles on three turntables like no other and changes the way we
  perceive genres and styles. We're sweeping boredom under the carpet with
  our dancing feet\, so be a guest at a night full of musical joy. The act
  is accompanied by a mix from dub to techno.\n\nFür die erste Hotel
  Sonnendeck Party hat das in Stuttgart ansässige Team Tiefbass DJ
  Marcelle aus Amsterdam eingeladen. Expect the unexpected - mit
  langjähriger Erfahrung im Gepäck lässt sie\, wie keine andere\,
  Musikstile auf drei Turntables verschmelzen und verändert so\, wie wir
  Genres und Stile wahrnehmen. Wir kehren die Langeweile mit dem Tanzbein
  unter den Teppich\, also seid Gast bei einer Nacht voller musikalischer
  \nÜberraschungen. Begleitet wird der Act durch eine Mischung von Dub bis
  Techno.\n
LOCATION:Sunny High Club\, Bahnhofstr. 14\, 70372 Stuttgart
GEO:48.8025406;9.2170963
ORGANIZER:mailto:Tiefbass
END:VEVENT
END:VCALENDAR
