BEGIN:VCALENDAR
VERSION:2.0
PRODID:eintopf.info
METHOD:REQUEST
BEGIN:VEVENT
UID:bfd77406-fdb5-4d61-b9bd-df241994197e
SUMMARY:Workshop: Wie können wir Wohnen und den öffentlichen Raum
  feministisch gestalten?
DTSTART:20250329T130000Z
URL:https://eintopf.info/event/bfd77406-fdb5-4d61-b9bd-df241994197e
DTEND:20250329T160000Z
CATEGORIES:Workshop\,Feminismus
DESCRIPTION:Anhand von konkreten Orten in Stuttgart erarbeiten wir
  gemeinsam wie Wohnen und der öffentliche Raum solidarisch/feministisch
  gestaltet werden kann und inwiefern eine solche (Um-)Gestaltung zu einem
  Abbau patriarchaler Strukturen führen könnte.\n\nWann: 29.03.2025\,
  14.00-17.00 Uhr\n\nWo: 1A Lage\, Königstraße 1a\,
  Stuttgart-Mitte\n\nAnmeldung unter: frauenkollektiv@riseup.net\n\nEine
  Veranstaltung des Frauenkollektivs Stuttgart und Adapter e.V.\n\n \n\nIm
  Anschluss zum Workshop wollen wir am 13.04. die Ergebnisse in einem
  Stadtspaziergang vorstellen und diskutieren. Treffpunkt dazu ist um 14
  Uhr am Stadtteilzentrum Gasparitsch.
LOCATION:1A Lage\, Königstraße 1a\, Stuttgart-Mitte
ORGANIZER:mailto:Frauenkollektiv Stuttgart,Adapter e.V.
END:VEVENT
END:VCALENDAR
