BEGIN:VCALENDAR
VERSION:2.0
PRODID:eintopf.info
METHOD:REQUEST
BEGIN:VEVENT
UID:be98e31b-f6e6-4f84-a6d8-17436cf5bbc4
SUMMARY:Gasparitsch-Kneipe
DTSTART:20251114T180000Z
URL:https://eintopf.info/event/be98e31b-f6e6-4f84-a6d8-17436cf5bbc4
DTEND:20251114T215000Z
CATEGORIES:Gesellig\,Sonstiges
DESCRIPTION:jeden Freitag ab 20 Uhr mit leckerem Essen\, Getränke – in
  netter Atmosphäre
LOCATION:Stadtteilzentrum Gasparitsch\, Rotenbergstr. 125\, 70190 Stuttgart
GEO:48.788058;9.2116285
ORGANIZER:mailto:Stadtteilzentrum Gasparitsch
END:VEVENT
END:VCALENDAR
