BEGIN:VCALENDAR
VERSION:2.0
PRODID:eintopf.info
METHOD:REQUEST
BEGIN:VEVENT
UID:bde63bbc-c3b5-4dc7-92b3-ef054e6a3bf1
SUMMARY:Sing.Impro.Stuttgart
DTSTART:20241211T173000Z
URL:https://eintopf.info/event/bde63bbc-c3b5-4dc7-92b3-ef054e6a3bf1
DTEND:20241211T190000Z
CATEGORIES:Offenes Treffen\,Sonstiges
DESCRIPTION:Sing.Impro. Stuttgart\nWas'n das?\nIt's NEW\, it's EASY\, it's
  FUN\nMusik aus dem Moment mit Stimme und Körper\nÀh
  What?\nStimm-Improvisation mit Circle Songs nach Bobby McFerrin und
  anderen spielerischen Impro-Formaten\nRegeln? Sing\, sing\, play...
  Actually 4 rules:\noffen für alle nur Stimme und Body Percussion\nnur
  improvisiert\nit's free ( auch für Schwaben)\n\n\nSing.Impro Stuttgart
  soll/kann eine monatliche Reihe werden.\nSei Teil davon\, genieße die
  Freiheit und die Gemeinschaft unserer Stimmen.
LOCATION:Sunny High 
ORGANIZER:mailto:Sunny High 
END:VEVENT
END:VCALENDAR
