BEGIN:VCALENDAR
VERSION:2.0
PRODID:eintopf.info
METHOD:REQUEST
BEGIN:VEVENT
UID:bd9644b0-7bee-4c69-9ed5-a66605935043
SUMMARY:KINO & FILMGESPRÄCH: Der unberechenbare Faktor
DTSTART:20230202T191500Z
URL:https://eintopf.info/event/bd9644b0-7bee-4c69-9ed5-a66605935043
DESCRIPTION:Film-Abend in der Raupe! Mit Popcorn\, geretteten
  foodsharing-Snacks & besonderen Werken\, die euch inspirieren\, zum
  Nachdenken einladen und Lust machen\, sich mit Themen zu beschäftigen!
  Diesmal im Programm: „Der unberechenbare Faktor“ (D\, 2021):\n\nDer
  Klima-Dokumentarfilm „Der unberechenbare Faktor“ beschäftigt sich
  mit der Frage\, warum wir als globale Gesellschaft trotz
  wissenschaftlicher Klarheit über den Klimawandel immer noch nicht
  angemessen handeln. Dabei legt er besonderen Fokus auf unsere
  menschlichen Faktoren\, die uns immer wieder ins Hamsterrad von
  Verdrängung und Ohnmacht zurück werfen. Dazu haben wir mit zahlreichen
  Wissenschaftler*innen und Aktivist*innen gesprochen. Wie wir gemeinsam
  auf einen Pfad in eine klimatisch bessere Zukunft kommen hängt von uns
  selbst ab\, denn wir sind der unberechenbare Faktor.\n\nDie Besonderheit
  diesmal: Mit dabei sind die Filmschaffenden\, die euch im Anschluss Rede
  und Antwort stehen. Erfahrt mehr über die Entstehung des Films\,
  Herausforderungen und Chancen. Wir freuen uns schon jetzt :)
LOCATION:Raupe Immersatt\, Johannesstraße 97\, Stuttgart
GEO:48.782018;9.1579717
ORGANIZER:mailto:Raupe Immersatt
END:VEVENT
END:VCALENDAR
