BEGIN:VCALENDAR
VERSION:2.0
PRODID:eintopf.info
METHOD:REQUEST
BEGIN:VEVENT
UID:bd95e66a-6bb3-4b42-8a70-a40a4161157d
SUMMARY:Offenes IT Kollektiv Treffen
DTSTART:20250912T160000Z
URL:https://eintopf.info/event/bd95e66a-6bb3-4b42-8a70-a40a4161157d
DTEND:20250912T180000Z
CATEGORIES:Offenes Treffen\,IT
DESCRIPTION:Du interessierst dich für IT im Allgemeinen\, Webentwicklung
  oder Design im speziellen? Du wolltest schon immer mal die Menschen
  hinter EINTOPF kennen lernen und wissen was wir sonst noch für Projekte
  machen? Du hast einen Projektidee oder deine Gruppe braucht IT Support?
  Dann komm zu unserem monatlichen offenen Treffen für einen lockeren
  Austausch bei einem Getränk.  \n\nUm bei uns im Kollektiv mitmachen zu
  können musst du nicht studiert haben oder Javascript-Profi sein\, bei
  uns finden auch interessierte Anfänger*innen einen Platz. Wir wollen
  gemeinsam technisch und politisch arbeiten\, lernen und Spaß
  haben.\n\nNeuerdings finden unsere offenen Treffen an wechselnden Orten
  in und um Stuttgart statt\, also schau nach wo wir zu Gast sind\, bevor
  du kommst.\nDieses Mal sind wir im UTOPIA Kiosk zu Gast. Da dieser erst
  um 18 Uhr öffnet\, starten wir ausnahmsweise eine Stunde später.\n\nWir
  freuen uns auf dich!
LOCATION:UTOPIA Kiosk\, Lazarettstraße 5\, 70182 Stuttgart
GEO:48.7730256;9.18134848847793
ORGANIZER:mailto:Klasse & Methode - IT Kollektiv Stuttgart
END:VEVENT
END:VCALENDAR
