BEGIN:VCALENDAR
VERSION:2.0
PRODID:eintopf.info
METHOD:REQUEST
BEGIN:VEVENT
UID:bd6fd946-f41c-45c1-896c-34c06454917a
SUMMARY:Offenes Treffen gegen Krieg & Militarisierung
DTSTART:20250602T190000Z
URL:https://eintopf.info/event/bd6fd946-f41c-45c1-896c-34c06454917a
DTEND:20250602T210000Z
CATEGORIES:Offenes Treffen\,Antimilitarismus
DESCRIPTION:Am  1. Montag im Monat findet unseres monatliches Treffen um
  19:00 Uhr im Linken Zentrum Lilo Herrmann statt.\n\nWenn du auch gegen
  Militarisierung und Krieg und für internationale Solidarität aktiv sein
  möchtest komm gerne vorbei.
LOCATION:Linkes Zentrum Lilo Herrmann\, Böblinger Straße 105\, 70199
  Stuttgart
GEO:48.7618266;9.1567994
ORGANIZER:mailto:Offenes Treffen gegen Krieg & Militarisierung Stuttgart
END:VEVENT
END:VCALENDAR
