BEGIN:VCALENDAR
VERSION:2.0
PRODID:eintopf.info
METHOD:REQUEST
BEGIN:VEVENT
UID:bd4dce35-2732-43f0-8577-6e99a5a1579a
SUMMARY:T4T B2B
DTSTART:20251216T180000Z
URL:https://eintopf.info/event/bd4dce35-2732-43f0-8577-6e99a5a1579a
CATEGORIES:Sonstiges\,Queer
DESCRIPTION:T4T B2B is a research project involving the collection and
  sharing of Trans-centered and Trans-created culture\, focused on creating
  social ties through knowledge sharing.\n\nThere will be two meetings at
  UTOPIA Kiosk on the 4.12. and 16.12. where the participants will be
  invited to bring and share music and texts created by Trans*
  people.\n\nThe final performance will be an audio-visual DJ set and party
  at SUNNY HIGH on the 13.02.2026.\n\nThe Crew\n\nLeif is a multimedia
  artist working across video\, photography\, writing\, performance and
  event curation. His video work includes music videos and short-form
  storytelling centered on queer and trans narratives\, exploring
  identity\, intimacy\, and visibility through a deeply personal and
  collaborative lens. With a background in event organisation and hosting\,
  his practice weaves together multiple mediums to build community and
  amplify underrepresented voices. Leif is particularly interested in
  creating emotionally resonant visual work that reflects the complexity
  and beauty of trans and queer lives.\n\nAlmar is a multidisciplinary
  Franco-Colombian artist based in Stuttgart. A musician and performer\, he
  has also been performing as a DJ since 2023. Beyond his artistic
  experience\, as a trans\, racialized person and a member of the Global
  South diaspora\, anti-racist\, anti-imperialist\, and transfeminist
  struggles have always held a central place in his life\, his artistic
  practice\, and his activism.
LOCATION:UTOPIA Kiosk\, Lazarettstraße 5\, 70182 Stuttgart
GEO:48.7730256;9.18134848847793
ORGANIZER:mailto:UTOPIA Kiosk
END:VEVENT
END:VCALENDAR
