BEGIN:VCALENDAR
VERSION:2.0
PRODID:eintopf.info
METHOD:REQUEST
BEGIN:VEVENT
UID:bc9f0573-5b0f-4b5c-8053-79c4fd6cb721
SUMMARY:SoLaWiS Koordinationskreistreffen
DTSTART:20260217T183000Z
URL:https://eintopf.info/event/bc9f0573-5b0f-4b5c-8053-79c4fd6cb721
DTEND:20260217T203000Z
CATEGORIES:Offenes Treffen\,Ernährung
DESCRIPTION:Monatliches Treffen der SoLaWi Stuttgart Mitglieder und
  Interessierte \n
LOCATION:Forum 3\, Gymnasiumstraße 21\, 70173 Stuttgart
ORGANIZER:mailto:Solidarische Landwirtschaft Stuttgart
END:VEVENT
END:VCALENDAR
