BEGIN:VCALENDAR
VERSION:2.0
PRODID:eintopf.info
METHOD:REQUEST
BEGIN:VEVENT
UID:bc4d9af6-4e60-4ca6-8c25-a3cf507a8052
SUMMARY:Konzert: Frankie Rose + SRSQ
DTSTART:20240229T190000Z
URL:https://eintopf.info/event/bc4d9af6-4e60-4ca6-8c25-a3cf507a8052
DESCRIPTION:Wir freuen uns sehr\, Frankie Rose und SRSQ\, am 29.02.24 auf
  ihrer Europa-Tour bei uns begrüßen zu dürfen!\n\n---\n\nAfter spending
  nearly two decades establishing herself across New York and Los Angeles
  independent music circles\, Frankie Rose returns after six years with a
  fresh form\, aesthetic\, and ethos embodied in her new full-length album
  "Love As Projection." Celebrated by countless critical and cultural
  outlets over the years for her expansive approach to songwriting\, lush
  atmospherics\, and transcendent vocal melodies and harmonies\, "Love As
  Projection" is a reintroduction of her established style through the new
  lens of contemporary electronic pop.\n\nSRSQ (pronounced seer-skew) is
  the moniker of singer\, musician\, and elemental force Kennedy Ashlyn.
  From foundational years as co-founder of visionary shoegaze duo Them Are
  Us Too (alongside the late\, lamented Cash Askew) through her growing
  body of solo work on Dais Records\, she has steadily honed her
  multi-octave range and moodswing songcraft into an increasingly potent
  poetic voice. 2019’s celebrated debut\, Unreality\, showcased a
  deepening gift for melodic dynamics and emotive exorcism – a mode she
  half-seriously coined “griefwave.” The album’s passionate response
  prompted extensive live dates\, further sharpening her natural
  performative instincts.
LOCATION:KOMMA esslingen\, Maille 5-9\, 73738 Esslingen
GEO:48.7382339;9.3094705
END:VEVENT
END:VCALENDAR
