BEGIN:VCALENDAR
VERSION:2.0
PRODID:eintopf.info
METHOD:REQUEST
BEGIN:VEVENT
UID:bc28f8a3-6cc2-4946-a03f-6572e8cdee23
SUMMARY:Veranstaltung: „Die Gäubahn im transeuropäischen Eisenbahnnetz
  erhalten“
DTSTART:20240219T180000Z
URL:https://eintopf.info/event/bc28f8a3-6cc2-4946-a03f-6572e8cdee23
DESCRIPTION:Seit 1879 verbindet die Gäubahn die Stadt Stuttgart mit dem
  oberen Neckartal\, dem westlichen Bodensee und der Schweiz.\nIhre Zukunft
  ist allerdings ungewiss.\nDeshalb laden Sie die Fraktionsgemeinschaft Die
  FrAKTION (LINKE SÖS PIRATEN TIERSCHUTZ)\nund das Gäubahnkomitee
  Stuttgart herzlich zu dieser Informations-Veranstaltung ein.\n\nEs
  erwartet Sie foglendes Programm:\n\n1. Begrüßung durch den Vorsitzenden
  der FrAKTION\, Hannes Rockenbauch\n2. Vorstellung der Ziele und
  Positionen des Gäubahnkomitees Stuttgart\n3. Informationen zur 2025
  geplanten Unterbrechung der Gäubahn durch Dr. Hans-Jorg Jäkel\n4.
  Grußworte (Jürgen Resch\, Deutsche Umwelthilfe\, und Harald Kirchner\,
  SWR)\n5. Ausschnitte aus dem Film des SWR „\,Die Gaubahn – Das Ende
  einer Magistrale?”\n6. Vortrag zur Gäubahn im europäischen
  Eisenbahnnetz von Dr. Benedikt Weibel (1993-2006 Vorsitzender der
  Geschäftsleitung der Schweizerische Bundesbahnen (SBB))\n\nDie
  Moderation erfolgt durch den Vorsitzenden des Gäubahnkomitees
  Stuttgart\, Dr. Hans-Jörg Jäkel.\n\nNach der Veranstaltung bietet das
  Weingut der Stadt Stuttgart im Foyer eigene Weine an. So können die
  angesprochenen Themen in angenehmer Umgebung vertieft
  werden.\nhttps://kopfbahnhof-21.de/veranstaltungen/veranstaltung-die-gaeu
 bahn-im-transeuropaeischen-eisenbahnnetz-erhalten/
LOCATION:Rathaus Stuttgart\, Großer Sitzungssaal
ORGANIZER:mailto:SÖS,Aktionsbündnis gegen Stuttgart 21
END:VEVENT
END:VCALENDAR
