BEGIN:VCALENDAR
VERSION:2.0
PRODID:eintopf.info
METHOD:REQUEST
BEGIN:VEVENT
UID:bad2a9b0-37e2-44cc-9ce5-e1a5022822bc
SUMMARY:„Kann ich meine Familie nach Deutschland bringen?“ –
  Basiswissen Familiennachzug
DTSTART:20240713T093000Z
URL:https://eintopf.info/event/bad2a9b0-37e2-44cc-9ce5-e1a5022822bc
DTEND:20240713T110000Z
CATEGORIES:Vortrag\,Sonstiges
DESCRIPTION:In ihrem Vortrag wird Maria Kalin die rechtlichen Grundlagen
  des Familiennachzugs erläutern\, insbesondere für Personen\, deren
  Asylantrag abgelehnt wurde und die dennoch durch verschiedene
  Bleiberechtsoptionen einen Aufenthaltstitel erhalten konnten.\n\nEine
  Wiederholung des Vortrags findet von 15:30 bis 17:00 Uhr statt.\n\nWir
  freuen uns auf Ihr Kommen!\n\nDer Vortrag findet im Rahmen der
  Sommertagung des Flüchtlingsrats Baden-Württemberg statt. \nEine
  Einzelanmeldung pro Programmpunkt ist möglich. \n\nFür weitere Infos
  und zur Anmeldung bitte hier entlang:
  https://fluechtlingsrat-bw.de/aktuelle-veranstaltungen/sommertagung-2024/
LOCATION: Bürgerräume Stuttgart-West\, Bebelstrasse 22\, 70193 Stuttgart
ORGANIZER:mailto:Flüchtlingsrat Baden-Württemberg
END:VEVENT
END:VCALENDAR
