BEGIN:VCALENDAR
VERSION:2.0
PRODID:eintopf.info
METHOD:REQUEST
BEGIN:VEVENT
UID:ba82faaf-ecbd-4dbd-84df-7b5c82aba633
SUMMARY:Rootwork Cinema | The Black Power Mixtape 1967-1975
DTSTART:20260222T163000Z
URL:https://eintopf.info/event/ba82faaf-ecbd-4dbd-84df-7b5c82aba633
DTEND:20260222T210000Z
CATEGORIES:Kino\,Antifaschismus
DESCRIPTION:The Black Power Mixtape—an electrifying documentary on the
  global rise of the Black Power movement.\n\n2011 | 100 min| English &
  Swedish (EN subtitles) 16+\n\nFrom 1967 to 1975\, Swedish journalists
  traveled across the United States documenting the Black Power movement\,
  capturing rare and intimate footage of organizers\, artists\, and
  community life.\n\nForgotten in archives for decades\, this material
  resurfaces as a powerful cinematic collage\, blending historical footage
  with contemporary reflections from artists and activists. The film offers
  an outsider's lens on a pivotal era\, revealing the people\, culture\,
  and political energy that fueled a movement for liberation.\n\nA vibrant
  and urgent portrait of resistance that remains deeply relevant
  today.\n\n\nRootwork Cinema invites you to come together around tea\,
  popcorn\, film\, and collective exchange. Together\, we watch\, discuss\,
  and share reflections on anti-colonial films from across geographies and
  the revolutionary struggles they represent.\n\n\n🧡 Donation-based |
  Registration required\n\n\nWe prefer cash contributions as a way to
  resist surveillance and keep the event accessible for refugees\,
  undocumented people\, and others excluded from digital payment
  systems.\n\n\nThis event shall be neurodivergent friendly. We aim to hold
  a space that is considerate of different attention spans\, sensory
  needs\, and ways of engaging. 
LOCATION:Prisma\, Bahnhofstraße 14-18\, 70372 Stuttgart
GEO:48.8024492;9.2171569
END:VEVENT
END:VCALENDAR
