BEGIN:VCALENDAR
VERSION:2.0
PRODID:eintopf.info
METHOD:REQUEST
BEGIN:VEVENT
UID:b86b7f50-0de7-472e-b4ea-6a788708fc1f
SUMMARY:ROSA stellt sich vor!
DTSTART:20210724T100000Z
URL:https://eintopf.info/event/b86b7f50-0de7-472e-b4ea-6a788708fc1f
DTEND:20210724T103000Z
DESCRIPTION:\nWir möchten eine mobile Beratungsstelle für Frauen* auf der
  Flucht bauen und damit bereits im Sommer 2022 nach Griechenland
  aufbrechen. Wie der Rolling Safespace genau aussehen soll\, was wir dazu
  noch brauchen und wieso wir davon überzeugt sind\, dass Safespaces ein
  fester Bestandteil der Humanitären Hilfe darstellen sollte\, erfährst
  du bei unserem Workshop! Wir freuen uns über Fragen\, Ideen\,
  Fördermitgliedschaften und euren Support!\n\n\n\n
LOCATION:Klimacamp 2021\, Zelt-Kimberlé
ORGANIZER:mailto:Kesselbambule,ROSA e.V. rolling savespace 
END:VEVENT
END:VCALENDAR
