BEGIN:VCALENDAR
VERSION:2.0
PRODID:eintopf.info
METHOD:REQUEST
BEGIN:VEVENT
UID:b75a2ddc-e4ce-47ad-9b4f-5044fec3e2fa
SUMMARY:Gesundheitstraining und Wir-Gefühl
DTSTART:20250924T151500Z
URL:https://eintopf.info/event/b75a2ddc-e4ce-47ad-9b4f-5044fec3e2fa
DTEND:20250924T164500Z
CATEGORIES:Offenes Treffen\,Gesundheit
DESCRIPTION:Impulse vom Ich zum Wir und wieder zurück\n\nMein
  Gesundheitstraining basiert sowohl auf dem Thema der Selbstwahrnehmung
  und dem individuellen Körpergefühl\, als auch auf einem achtsamen
  Miteinander. Die Gruppe ist alterslos\, d.h. jedes Alter ist gern
  gesehen. \nLasst uns nutzen was wir alle gemein haben - die Freude an der
  Bewegung!\n\nHier erlebst Du Miteinander! \n\n\nBitte teile die Werte
  \nToleranz und Gesundheit\nund bring die Bereitschaft mit\, Dich
  nonverbal\, über den Körper\, deinen persönlichen Bedürfnissen zu
  widmen! \n\n\nWann: Mittwoch\, 17.15 - 18.45 Uhr (außer in den
  Schulferien)\nDauer: 90 Minuten\n\n\nUmkleiden und WC sind im
  Erdgeschoss\nMitzubringen: Saubere Hallenturnschuhe\,
  Trinkflasche\nBeteiligung der Raumkosten: 2-20€\, je nach
  Möglichkeit\n\nDie Anmeldung ist jeweils bis zum letzten Tag davor
  möglich über die Whatsapp Gruppe oder die Website. \n\nBei Fragen
  zögere bitte nicht einfach durchzuklingeln.  \n\nLina
  Neubeck\nwww.gesundheitstrainerin.eu\nTel.: 0711-88810060\naktuelles via
  Whatsapp: https://chat.whatsapp.com/ClQyoTBTzAQ780zQpjuFgR 
LOCATION:Sporthalle Ameisenbergschule\, Ameisenbergstraße 2\, 70188
  Stuttgart
ORGANIZER:mailto:Gesundheitstrainerin -Lina-
END:VEVENT
END:VCALENDAR
