BEGIN:VCALENDAR
VERSION:2.0
PRODID:eintopf.info
METHOD:REQUEST
BEGIN:VEVENT
UID:b74c27fe-9822-442b-a6de-6842982d55c7
SUMMARY:Jam Session im August
DTSTART:20250822T170000Z
URL:https://eintopf.info/event/b74c27fe-9822-442b-a6de-6842982d55c7
CATEGORIES:DIY\,Sonstiges
DESCRIPTION:WANTED: Alle die Musik machen wollen und alle die Lust auf
  Live-Musik haben.\n\nWir stellen\; Schlagzeug\, Bass\, Keys\, Gitarre und
  Mikrofone. Es gibt Getränke\, Livemusik\, Bänke zum sitzen und
  Barkeeper zum quatschen. Es wird schräge Töne und Taktfehler geben\,
  Freudentränen\, und ganz arg viel Liebe für Musik. Versprochen!\nKeine
  Altersbeschränkung\, keine Beurteilung\, keine Grenzen\, keine
  Selbstdarstellung\, und Niemand der Dir sagt wie Du musizieren
  sollst.\nJedes Instrument das durch das Treppenhaus passt darf mit nach
  unten in den Veranstaltungsraum!\n…und hast Du schlechte Laune\, dann
  bring sie mit!\n\nWas wir wünschen: Respekt\, Akzeptanz\, Support\,
  Teilhabe\, Kommunikation\, Rücksicht und vielleicht auch eigene
  Instrumentenkabel und eigene Instrumente.\n
LOCATION:Stadtteilzentrum Gasparitsch\, Rotenbergstr. 125\, 70190 Stuttgart
GEO:48.788058;9.2116285
ORGANIZER:mailto:Stadtteilzentrum Gasparitsch
END:VEVENT
END:VCALENDAR
