BEGIN:VCALENDAR
VERSION:2.0
PRODID:eintopf.info
METHOD:REQUEST
BEGIN:VEVENT
UID:b6c274f5-c5cb-4fb5-86c1-8887e675083f
SUMMARY:800. Montagsdemonstration gegen Stuttgart 21 um 18:00
DTSTART:20260330T160000Z
URL:https://eintopf.info/event/b6c274f5-c5cb-4fb5-86c1-8887e675083f
CATEGORIES:Demonstration\,Mobilität
DESCRIPTION:Redner*innen:\n\nProf. Dr. Heiner Monheim\, Sprecher
  von"Bürgerbahn - Denkfabrik für eine starke Schiene"\nDr. Katharina
  Keil\, Sozial-ökologische Ökonomin\, Referentin für Verkehrspolitik
  Fraktion DIE LINKE im Bundestag\nTobi Rosswog\, Verkehrswende Aktivist
  und Autor\nTimo Brunke\, Poet und Wortkünstler\n\nMusik:
  "Friday-Night-Band"\, Piano\, Drums\, Gitarre\, Bass und
  Gesang\nModeration: Dr. med. Dipl.-Psych. Angelika Linckh\, Capella
  Rebella\n
LOCATION:Stuttgart\, Schlossplatz\, Schlossplatz 1\, 70173 Stuttgart
GEO:48.7783234;9.1775761
ORGANIZER:mailto:parkschuetzer.de
END:VEVENT
END:VCALENDAR
