BEGIN:VCALENDAR
VERSION:2.0
PRODID:eintopf.info
METHOD:REQUEST
BEGIN:VEVENT
UID:b57e57ab-a733-4797-8708-2d063ae70814
SUMMARY:Kundgebung zum Safe Abortion Day
DTSTART:20250928T120000Z
URL:https://eintopf.info/event/b57e57ab-a733-4797-8708-2d063ae70814
DTEND:20250928T140000Z
CATEGORIES:Demonstration\,Feminismus
DESCRIPTION:Rechte und konservative Kräfte setzen weltweit reproduktive
  Selbstbestimmung unter Druck.\nWir sagen: NEIN!\nWir fordern:\n– die
  ersatzlose Streichung des §218 StGB\n– sicheren\, kostenfreien und
  wohnortnahen Zugang zu Schwangerschaftsabbrüchen\n– eine umfassende
  Medizinstudium Versorgung ohne Stigmatisierung\nUngewollt schwangere
  Personen brauchen Unterstützung\, keine Strafandrohung.\nLasst uns
  gemeinsam für eine gerechte\, solidarische und selbstbestimmte
  Gesellschaft kämpfen.\nMit Redebeiträge\, Infotischen\, Mitmachsktionen
  und Ausstellungen möchten wir auf die rechtliche Situation zu
  Schwangerschaftsabbrüchen in Deutschland aufmerksam machen.\n\nLos
  geht´s am 28. September 2025 um 14 Uhr auf dem Marienplatz. Kommt
  vorbei\, zeigt mit uns präsenz und setzt euch für reproduktive
  Selbstbestimmung ein.\n\nPro Choice Stuttgart
LOCATION:Marienplatz\, Stuttgart
ORGANIZER:mailto:Pro Choice Bündnis Stuttgart
END:VEVENT
END:VCALENDAR
