BEGIN:VCALENDAR
VERSION:2.0
PRODID:eintopf.info
METHOD:REQUEST
BEGIN:VEVENT
UID:b5757835-f17a-41c4-822a-702d19d1c71b
SUMMARY:NO MORE eine Veranstaltung über suizid
DTSTART:20241211T180000Z
URL:https://eintopf.info/event/b5757835-f17a-41c4-822a-702d19d1c71b
DTEND:20241211T203000Z
CATEGORIES:Sonstiges\,Sonstiges
DESCRIPTION:
LOCATION:White Noise
ORGANIZER:mailto:Amt für Körper und Schall
END:VEVENT
END:VCALENDAR
