BEGIN:VCALENDAR
VERSION:2.0
PRODID:eintopf.info
METHOD:REQUEST
BEGIN:VEVENT
UID:b49ba88d-f632-40b7-94c0-2e48f8359fd6
SUMMARY:Filmabend: Verkehrswendestadt Wolfsburg
DTSTART:20241122T200000Z
URL:https://eintopf.info/event/b49ba88d-f632-40b7-94c0-2e48f8359fd6
DTEND:20241122T223000Z
CATEGORIES:Kino\,Klimagerechtigkeit
DESCRIPTION:Kämpferische Arbeiter*innen & kreative Aktivist*innen brechen
  den automobilen Konsens auf\n\n"In zwei Jahren wird die erste
  Straßenbahn vom Band laufen". \nDas war die Ansage für die zweijährige
  Kampagne "VW steht nicht mehr für Volkswagen\, sondern für
  VerkehrsWende".\n\nIm August 2022 ging eine Handvoll kreative
  Aktivist*innen für zwei Jahre in die „Höhle des Löwen“\, nach
  Wolfsburg\, ins Herz der Automobilindustrie. Ihr Ziel: Den automobilen
  Konsens aufbrechen – durch kreative Kampagnen und bunte Aktionen
  gemeinsam mit kämpferischen Arbeiter*innen ein Möglichkeitsfenster
  öffnen.\n\nDie Krise der Automobil-und Zulieferindustrie ist da. Weit
  über 50.000 Stellen wurden in den letzten fünf Jahren verlagert oder
  vernichtet. Aber die Profite der Eigentümer wie Wolfgang Porsche oder
  dem Emirat Katar sprudeln dabei weiter. \n\nDeswegen brauchen wir
  Konversion - den Umbau der Produktion auf Dinge\, die wir wirklich
  brauchen - und Vergesellschaftung - die Fabrik denen\, die darin
  arbeiten.\n\nDass die Aktionen der kreativen Aktivist*innen und
  kämpferischen Arbeiter*innen Wirkung zeigen\, wird in weit über 100
  lokalen\, bundesweiten und internationalen Presseberichten deutlich\,
  sowie auch der Repression seitens des Staats und Kapitals. Je eine
  Hausdurchsuchung zu Beginn und zum Ende der Kampagne\,\nunzählige
  Prozesse und ein Kooperationsverbot aller städtischen Einrichtungen
  durch den CDU-Oberbürgermeister geben einen ersten Eindruck - hier wurde
  ein Nerv getroffen.\n\nDer Film mit einigen Aktionsszenen und vielen
  Interviewpassagen zeigt die Wirksamkeit direkter Aktionen auf das
  gesellschaftliche Bewusstsein. „Es braucht nicht viele\, um etwas zu
  bewegen“\, so die\nÜberzeugung der Aktivist*innen und Arbeiter*innen.
  Es geht darum die soziale und ökologische Frage zusammen zu denken und
  danach zu handeln.\n\nhttps://film.verkehrswendestadt.de/\n
LOCATION:Prisma\, Bahnhofstraße 14-18\, 70372 Stuttgart
GEO:48.8024492;9.2171569
ORGANIZER:mailto:Kesselbambule,Ende Gelände Süd
END:VEVENT
END:VCALENDAR
