BEGIN:VCALENDAR
VERSION:2.0
PRODID:eintopf.info
METHOD:REQUEST
BEGIN:VEVENT
UID:b3ccb097-2941-4883-894d-1a29562f39e7
SUMMARY:Lesung "DIE ANDEREN - Die harte Realität der Obdachlosigkeit"
DTSTART:20231119T170000Z
URL:https://eintopf.info/event/b3ccb097-2941-4883-894d-1a29562f39e7
DESCRIPTION:Zur Lesung ihres Buchs "DIE ANDEREN - Die harte Realität der
  Obdachlosigkeit" kommt die Autorin Janita-Marja Juvonen nach Stuttgart.
  Janita hat als junge Frau viele Jahre auf der Straße gelebt. Über ihre
  Erfahrungen\, die strukturelle Diskriminierung und Gefahren auf der
  Straße berichtete sie in ihrem Buch. Neben der Lesung wird es auch die
  Möglichkeit geben Fragen zu stellen\, in den Austausch zu kommen und das
  Buch zu kaufen. Die Veranstaltung ist kostenlos. Wir freuen uns auf einen
  spannenden Abend! 
LOCATION:Stadtteilzentrum Gasparitsch\, Rotenbergstr. 125\, 70190 Stuttgart
GEO:48.788058;9.2116285
ORGANIZER:mailto:Sozial, radikal, gegens Kapital
END:VEVENT
END:VCALENDAR
