BEGIN:VCALENDAR
VERSION:2.0
PRODID:eintopf.info
METHOD:REQUEST
BEGIN:VEVENT
UID:b36d7a80-d831-4106-9431-dcb977c1342c
SUMMARY:Brettspielspaß
DTSTART:20250305T170000Z
URL:https://eintopf.info/event/b36d7a80-d831-4106-9431-dcb977c1342c
DTEND:20250305T220000Z
CATEGORIES:Gesellig\,Sonstiges
DESCRIPTION:Lange Winterabende\, Schietwetter und ihr habt keine Ahnung\,
  wie ihr die Zeit bis endlich der Frühling kommt überstehen sollt? Wir
  finden: Winterzeit ist doch die perfekte Spielezeit. Deshalb
  präsentieren wir euch an diesem Abend unsere Lieblingsspiele :) Und wenn
  ihr eh noch auf der Suche nach der passenden Location für euren
  nächsten Spieleabend seit: Wir haben sie!\n\nKommt vorbei und stöbert
  in unserer Auswahl oder bringt gleich euer eigenes Lieblingsspiel
  mit!\n\nIn entspannter Café-Atmosphäre\, mit guter Musik\, ein paar
  geretteten Leckereien und Snacks und bester Umsorgung durch Team Raupe
  könnt ihr zocken\, was das Zeug hält!\n\nEintritt frei.\n
LOCATION:Raupe Immersatt\, Johannesstraße 97\, Stuttgart
GEO:48.782018;9.1579717
ORGANIZER:mailto:Raupe Immersatt
END:VEVENT
END:VCALENDAR
