BEGIN:VCALENDAR
VERSION:2.0
PRODID:eintopf.info
METHOD:REQUEST
BEGIN:VEVENT
UID:b34c7065-c307-4f91-ad73-a6c8c45328ed
SUMMARY:Gasparitsch Kneipe
DTSTART:20240315T190000Z
URL:https://eintopf.info/event/b34c7065-c307-4f91-ad73-a6c8c45328ed
DTEND:20240315T225000Z
DESCRIPTION:jeden Freitag ab 20 Uhr mit leckerem Essen\, Getränke – in
  netter Atmosphäre
LOCATION:Stadtteilzentrum Gasparitsch\, Rotenbergstr. 125\, 70190 Stuttgart
GEO:48.788058;9.2116285
END:VEVENT
END:VCALENDAR
