BEGIN:VCALENDAR
VERSION:2.0
PRODID:eintopf.info
METHOD:REQUEST
BEGIN:VEVENT
UID:b2f64849-f166-4f7d-9f63-c69653e7f83c
SUMMARY:FLINTA* Musikproduktions-Workshop (Einsteiger*innen)
DTSTART:20250419T120000Z
URL:https://eintopf.info/event/b2f64849-f166-4f7d-9f63-c69653e7f83c
CATEGORIES:Workshop\,Sonstiges
DESCRIPTION:Musikproduktion für Einsteiger*innen im UTOPIA KIOSK\n\nHast
  du Lust\, selbst Musik zu produzieren? Du singst\, rappst oder hast
  einfach Lust\, elektronische Musik zu machen? Oder suchst du Musik für
  ein künstlerisches Projekt? Dann komm zum
  Producing-Einsteiger*innen-Workshop!\n\nIn entspannter Atmosphäre
  besprechen wir\, was es braucht\, um mit der ersten eigenen Produktion zu
  starten. Mit der Software Ableton Live erschließen wir gemeinsam die
  Programmoberfläche und produzieren einen ersten kleinen Song.\n\nDu
  brauchst keine musikalischen Vorkenntnisse!\n\nMitzubringen ist:\n\nEin
  Laptop mit der Demo-Version von Ableton Live (30 Tage lang gültig\, also
  nicht zu früh downloaden)\nEinen kabelgebundenen Kopfhörer (bei
  Bluetooth kommt es zu Verzögerungen)\nBei Bedarf eine Maus\nFalls du
  davon etwas nicht besitzt\, schreibe es mit in die Anmeldung und wir
  schauen wie wir aushelfen können! \n\nDer Workshop richtet sich an
  FLINTA* und die LGBTQIA+ Community.\nDie Anzahl der Plätze ist begrenzt.
  Anmeldung bis zum 15. April an BUY TICKETS oder
  hier: https://docs.google.com/forms/d/e/1FAIpQLSc2CI99Ko0SX4kue_qNZ-ecsP
 q6ggwHepdhdSFSsn73krSBnw/viewform?usp=header\n\n\n\nÜber mich\n\nIch bin
  Alexandra\, Künstlerin aus Stuttgart\, und beschäftige mich seit 2015
  mit Musikproduktion. Musik ist für mich ein zentrales Medium meiner
  künstlerischen Arbeit. Seit etwa einem Jahr gebe ich niederschwellige
  Producing-Workshops für Einsteiger*innen. Dabei schaffe ich einen
  sicheren Raum für kreativen Austausch und gemeinsames Lernen. Mir ist
  besonders wichtig\, dass sich alle wohlfühlen und die Workshops als
  inspirierende und bestärkende Erfahrung erleben. Weitere Infos zu meiner
  Arbeit: www.alexandrahaas.net 
LOCATION:UTOPIA Kiosk\, Lazarettstraße 5\, 70182 Stuttgart
GEO:48.7730256;9.18134848847793
ORGANIZER:mailto:UTOPIA Kiosk
END:VEVENT
END:VCALENDAR
