BEGIN:VCALENDAR
VERSION:2.0
PRODID:eintopf.info
METHOD:REQUEST
BEGIN:VEVENT
UID:b1ab8f0b-7738-4c23-8da6-9048a4db816d
SUMMARY:neuer Termin: Vortrag Feminismus und Carearbeit mit Günseli Yilmaz
DTSTART:20230525T170000Z
URL:https://eintopf.info/event/b1ab8f0b-7738-4c23-8da6-9048a4db816d
DESCRIPTION:Was ist Care-Arbeit? Warum ist das für uns und die
  feministische Bewegung eine wichtige Debatte? Was war die Lohn für
  Hausarbeits-Bewegung und wie können wir heute die ungesehene Haus- und
  Sorgearbeit in den Mittelpunkt rücken und die Arbeit sichtbar
  machen?\n\nAnlässlich des diesjährigen internationalen Frauen*Kampftags
  am 8. März wollen wir nun mit dem neuen Termin im Rahmen des Vortrags
  mit dem Titel Feminismus und Carearbeit diesen Fragen nachgehen und
  darüber sprechen in welchem Verhältnis die Diskussionen um die
  sogenannte Carearbeit und die feministische Theorie und Praxis
  stehen.\n\nInsbesondere die Krise der Pflege und andere Versorgungskrisen
  beschäftigen die politische Landschaft nicht erst seit der
  Coronapandemie. Die meist von Frauen geleisteten Fürsorgetätigkeiten
  sind schon seit der Auslagerung derselben aufgrund ihrer prekären
  Erscheinung Teil des Arbeitskampfs und Gegenstand feministischer Theorie
  und Praxis. Vor der Auslagerung in den Niedriglohnsektor wurde die
  Fürsorge auch von vermehrt weiblichen Subjekten unentgeltlich geleistet
  ähnlich verhält es sich mit Hausarbeitstätigkeiten\, die bis heute
  vermehrt von Frauen im Privaten getätigt wird. Die Carearbeitsdebatte
  schließt sich an die Bewegung an\, die Lohn für Hausarbeit forderte\,
  unterscheidet sich aber in wesentlichen Punkten von dieser. Inwiefern
  sich diese unterscheiden und warum der Arbeitsbegriff bei dieser
  Diskussion um Fürsorge eine besondere Rolle einnimmt\, ist Gegenstand
  des Vortrags.
LOCATION:Stadtteilzentrum Gasparitsch\, Rotenbergstr. 125\, 70190 Stuttgart
GEO:48.788058;9.2116285
ORGANIZER:mailto:Frauenkollektiv Stuttgart,organisierte autonomie Stuttgart
END:VEVENT
END:VCALENDAR
