BEGIN:VCALENDAR
VERSION:2.0
PRODID:eintopf.info
METHOD:REQUEST
BEGIN:VEVENT
UID:b1654870-e78c-4b2a-98b1-997ba1ae2fce
SUMMARY:Lichtlyric
DTSTART:20251123T170000Z
URL:https://eintopf.info/event/b1654870-e78c-4b2a-98b1-997ba1ae2fce
CATEGORIES:Sonstiges\,Kunst
DESCRIPTION:Performance mit Barbara Stoll (Sprache) und Laurenz Theinert
  (Licht)\nZum ersten Mal begegnen sich die Stuttgarter Künstlerin Barbara
  Stoll und der\nLichtkünstler Laurenz Theinert in einer gemeinsamen
  Performance. In Lichtlyrik\nerforschen sie das Zusammenspiel von Licht
  und Raum\, Text und Klang – und laden das\nPublikum ein\, in die
  flüchtige Welt zwischen Hören und Sehen einzutauchen.\nWas passiert in
  unseren Köpfen\, wenn wir Gedichte hören?\nWie „erscheint“
  Theinerts Licht im Raum?\nEin intensives Wechselspiel aus Vorstellungen\,
  Gehörtem und Gesehenem führt das\nPublikum auf eine 45-minütige Reise
  durch eine o^ene\, kaum greifbare Welt aus\nSprache und Licht.\n\nORT &
  TERMINE\nKulturinsel Stuttgart\, Club (Mainfloor)\, Güterstraße 4\,
  70732 Stuttgart\n23. November 2025\, 18:00 Uhr\n\nEINTRITT\nAuf
  Spendenbasis
LOCATION:Kulturinsel\, Güterstraße 4\, 70372 Stuttgart
GEO:48.7974711;9.2264063
END:VEVENT
END:VCALENDAR
